BEGIN:VCALENDAR
VERSION:2.0
PRODID:-//Tukios.com/
BEGIN:VEVENT
UID:b383dd98-6a8d-4cb4-b2b3-fa76458191a3@www.staufferfuneralhome.com
DTSTAMP:20260419T232550Z
DTSTART:20260422T200000Z
DTEND:20260422T230000Z
SUMMARY:Visitation
DESCRIPTION:
URL:https://www.staufferfuneralhome.com/obituaries/brenda-rahn
LOCATION:Stauffer Funeral Home-Frederick 1621 Opossumtown Pike  Frederick 
	MD 21702
GEO:39.4409923;-77.4115061
END:VEVENT
END:VCALENDAR