BEGIN:VCALENDAR
VERSION:2.0
PRODID:-//Tukios.com/
BEGIN:VEVENT
UID:8797dde1-055b-4de4-9e31-5878210105c5@www.staufferfuneralhome.com
DTSTAMP:20260419T232225Z
DTSTART:20260423T170000Z
DTEND:20260423T180000Z
SUMMARY:Funeral Service
DESCRIPTION:
URL:https://www.staufferfuneralhome.com/obituaries/brenda-rahn
LOCATION:Stauffer Funeral Home-Frederick 1621 Opossumtown Pike  Frederick 
	MD 21702
GEO:39.4409923;-77.4115061
END:VEVENT
END:VCALENDAR