BEGIN:VCALENDAR
VERSION:2.0
PRODID:-//Tukios.com/
BEGIN:VEVENT
UID:a53d6953-d541-4818-a532-257790ecd5e8@www.staufferfuneralhome.com
DTSTAMP:20260421T005659Z
DTSTART:20260425T200000Z
DTEND:20260425T230000Z
SUMMARY:Visitation
DESCRIPTION:
URL:https://www.staufferfuneralhome.com/obituaries/james-rousseau
LOCATION:Stauffer Funeral Homes 1621 Opossumtown Pike  Frederick MD 21702
GEO:39.4409387;-77.4115449
END:VEVENT
END:VCALENDAR