BEGIN:VCALENDAR
VERSION:2.0
PRODID:-//Tukios.com/
BEGIN:VEVENT
UID:4cf42598-2284-4c7c-b3ed-8f8d4381abde@www.staufferfuneralhome.com
DTSTAMP:20260423T200602Z
DTSTART:20260428T220000Z
DTEND:20260429T000000Z
SUMMARY:Visitation
DESCRIPTION:
URL:https://www.staufferfuneralhome.com/obituaries/janie-shafer
LOCATION:Stauffer Funeral Homes, P.A. (Brunswick) 1100 North Maple Avenue 
	 Brunswick MD 21716
GEO:39.3233688;-77.6222673
END:VEVENT
END:VCALENDAR