BEGIN:VCALENDAR
VERSION:2.0
PRODID:-//Tukios.com/
BEGIN:VEVENT
UID:3343e183-b719-4e82-a6e2-0c38fc7ef315@www.staufferfuneralhome.com
DTSTAMP:20260423T195905Z
DTSTART:20260429T150000Z
DTEND:20260429T160000Z
SUMMARY:Celebration of Life
DESCRIPTION:
URL:https://www.staufferfuneralhome.com/obituaries/janie-shafer
LOCATION:Stauffer Funeral Homes, P.A. (Brunswick) 1100 North Maple Avenue 
	 Brunswick MD 21716
GEO:39.3233688;-77.6222673
END:VEVENT
END:VCALENDAR