BEGIN:VCALENDAR
VERSION:2.0
PRODID:-//Tukios.com/
BEGIN:VEVENT
UID:d13af202-0bd3-42b9-99b1-d7cbc8facff5@www.staufferfuneralhome.com
DTSTAMP:20260423T192120Z
DTSTART:20260427T140000Z
DTEND:20260427T150000Z
SUMMARY:Visitation
DESCRIPTION:
URL:https://www.staufferfuneralhome.com/obituaries/judy-johns
LOCATION:Stauffer Funeral Home 1621 Opossumtown Pike  Frederick MD 21702
GEO:39.4409387;-77.4115449
END:VEVENT
END:VCALENDAR