BEGIN:VCALENDAR
VERSION:2.0
PRODID:-//Tukios.com/
BEGIN:VEVENT
UID:84e96357-a166-4502-b5d7-098caeec983d@www.staufferfuneralhome.com
DTSTAMP:20260423T192339Z
DTSTART:20260427T150000Z
DTEND:20260427T160000Z
SUMMARY:Funeral Service
DESCRIPTION:
URL:https://www.staufferfuneralhome.com/obituaries/judy-johns
LOCATION:Stauffer Funeral Home 1621 Opossumtown Pike  Frederick MD 21702
GEO:39.4409387;-77.4115449
END:VEVENT
END:VCALENDAR