BEGIN:VCALENDAR
VERSION:2.0
PRODID:-//Tukios.com/
BEGIN:VEVENT
UID:66055526-a8ec-416a-ba04-4ce65bb49020@www.staufferfuneralhome.com
DTSTAMP:20260420T203519Z
DTSTART:20260426T180000Z
DTEND:20260426T190000Z
SUMMARY:Visitation
DESCRIPTION:
URL:https://www.staufferfuneralhome.com/obituaries/mark-kestner
LOCATION: 1621 Opossumtown Pike  Frederick MD 21702
GEO:39.4409923;-77.4115061
END:VEVENT
END:VCALENDAR