BEGIN:VCALENDAR
VERSION:2.0
PRODID:-//Tukios.com/
BEGIN:VEVENT
UID:ef59b8b3-a337-455a-b2ea-65b5cb1a66c3@www.staufferfuneralhome.com
DTSTAMP:20260420T203322Z
DTSTART:20260426T190000Z
DTEND:20260426T200000Z
SUMMARY:Funeral Service
DESCRIPTION:
URL:https://www.staufferfuneralhome.com/obituaries/mark-kestner
LOCATION: 1621 Opossumtown Pike  Frederick MD 21702
GEO:39.4409923;-77.4115061
END:VEVENT
END:VCALENDAR