BEGIN:VCALENDAR
VERSION:2.0
PRODID:-//Tukios.com/
BEGIN:VEVENT
UID:ccc53429-2490-44ac-aaaf-f901731ba7f5@www.staufferfuneralhome.com
DTSTAMP:20260420T203028Z
DTSTART:20260426T193000Z
DTEND:20260426T220000Z
SUMMARY:Memorial Gathering
DESCRIPTION:
URL:https://www.staufferfuneralhome.com/obituaries/mark-kestner
LOCATION: 1621 Opossumtown Pike  Frederick MD 21702
GEO:39.4409923;-77.4115061
END:VEVENT
END:VCALENDAR