BEGIN:VCALENDAR
VERSION:2.0
PRODID:-//Tukios.com/
BEGIN:VEVENT
UID:4e8d8858-0369-4b3c-979d-f57309db9676@www.staufferfuneralhome.com
DTSTAMP:20260423T182654Z
DTSTART:20260427T220000Z
DTEND:20260428T000000Z
SUMMARY:Visitation
DESCRIPTION:
URL:https://www.staufferfuneralhome.com/obituaries/marlee-williams
LOCATION:Stauffer Funeral Homes 1621 Opossumtown Pike  Frederick MD 21702
GEO:39.4409387;-77.4115449
END:VEVENT
END:VCALENDAR