BEGIN:VCALENDAR
VERSION:2.0
PRODID:-//Tukios.com/
BEGIN:VEVENT
UID:ba7ce9a4-ba37-4a71-a437-54314589c014@www.staufferfuneralhome.com
DTSTAMP:20260423T182326Z
DTSTART:20260428T150000Z
DTEND:20260428T160000Z
SUMMARY:Celebration of Life
DESCRIPTION:
URL:https://www.staufferfuneralhome.com/obituaries/marlee-williams
LOCATION:Stauffer Funeral Homes 1621 Opossumtown Pike  Frederick MD 21702
GEO:39.4409387;-77.4115449
END:VEVENT
END:VCALENDAR