BEGIN:VCALENDAR
VERSION:2.0
PRODID:-//Tukios.com/
BEGIN:VEVENT
UID:dc642e2e-bef2-4bf2-ab48-13030f61d987@www.staufferfuneralhome.com
DTSTAMP:20260421T022412Z
DTSTART:20260424T150000Z
DTEND:20260424T160000Z
SUMMARY:Celebration of Life
DESCRIPTION:
URL:https://www.staufferfuneralhome.com/obituaries/miriam-mills
LOCATION:St. James Brethren Church 17718 Lappans Road  Fairplay MD 21733
GEO:39.5644212;-77.7531804
END:VEVENT
END:VCALENDAR