BEGIN:VCALENDAR
VERSION:2.0
PRODID:-//Tukios.com/
BEGIN:VEVENT
UID:049b4a1b-a5ce-473f-91e8-4a14337435d5@www.staufferfuneralhome.com
DTSTAMP:20260420T172954Z
DTSTART:20260425T140000Z
DTEND:20260425T150000Z
SUMMARY:Visitation
DESCRIPTION:
URL:https://www.staufferfuneralhome.com/obituaries/reni-da-costa-santos
LOCATION: 1100 N Maple Ave  Brunswick MD 21716
GEO:39.3233688;-77.6222673
END:VEVENT
END:VCALENDAR