BEGIN:VCALENDAR
VERSION:2.0
PRODID:-//Tukios.com/
BEGIN:VEVENT
UID:401ac199-9d0d-4c54-9485-61f9e4245c46@www.staufferfuneralhome.com
DTSTAMP:20260420T172954Z
DTSTART:20260425T150000Z
DTEND:20260425T160000Z
SUMMARY:Funeral Service
DESCRIPTION:
URL:https://www.staufferfuneralhome.com/obituaries/reni-da-costa-santos
LOCATION: 1100 N Maple Ave  Brunswick MD 21716
GEO:39.3233688;-77.6222673
END:VEVENT
END:VCALENDAR