BEGIN:VCALENDAR
VERSION:2.0
PRODID:-//Tukios.com/
BEGIN:VEVENT
UID:ab1ab83f-a123-49c5-a6e7-b8f6a2b4558c@www.staufferfuneralhome.com
DTSTAMP:20260419T232212Z
DTSTART:20260423T133000Z
DTEND:20260423T143000Z
SUMMARY:Mass
DESCRIPTION:
URL:https://www.staufferfuneralhome.com/obituaries/wilfred-gagnon
LOCATION: 5843 Manor Woods Rd  Frederick MD 21703
GEO:39.3307724;-77.4626232
END:VEVENT
END:VCALENDAR